BEGIN:VCALENDAR
VERSION:2.0
PRODID:-//Terra Amara - Associazione culturale - ECPv6.10.0//NONSGML v1.0//EN
CALSCALE:GREGORIAN
METHOD:PUBLISH
X-ORIGINAL-URL:https://terraamara.it
X-WR-CALDESC:Eventi per Terra Amara - Associazione culturale
REFRESH-INTERVAL;VALUE=DURATION:PT1H
X-Robots-Tag:noindex
X-PUBLISHED-TTL:PT1H
BEGIN:VTIMEZONE
TZID:Europe/Rome
BEGIN:DAYLIGHT
TZOFFSETFROM:+0100
TZOFFSETTO:+0200
TZNAME:CEST
DTSTART:20220327T010000
END:DAYLIGHT
BEGIN:STANDARD
TZOFFSETFROM:+0200
TZOFFSETTO:+0100
TZNAME:CET
DTSTART:20221030T010000
END:STANDARD
BEGIN:DAYLIGHT
TZOFFSETFROM:+0100
TZOFFSETTO:+0200
TZNAME:CEST
DTSTART:20230326T010000
END:DAYLIGHT
BEGIN:STANDARD
TZOFFSETFROM:+0200
TZOFFSETTO:+0100
TZNAME:CET
DTSTART:20231029T010000
END:STANDARD
END:VTIMEZONE
BEGIN:VEVENT
DTSTART;TZID=Europe/Rome:20231028T193000
DTEND;TZID=Europe/Rome:20231028T233000
DTSTAMP:20260420T055815
CREATED:20231023T204035Z
LAST-MODIFIED:20231023T204035Z
UID:1027-1698521400-1698535800@terraamara.it
SUMMARY:Fuorisalotto Milano | SCARDA + Miele | Nick Sanfrancisco vinyl set
DESCRIPTION:Fuori Salotto è il salotto itinerante della canzone\, che ospita in via esclusiva i protagonisti del cantautorato italiano.\nSiamo felici di ospitare SCARDA in chiave intima e preziosa: chitarra\, voce e calice di vino.\nIn collaborazione con l’associazione Terra Amara\, portiamo il Fuori Salotto a Milano da ALIBI (music club a due passi dalla metro Gorla). \nL’obiettivo è creare bellezza attraverso momenti di valore emotivo e culturale per il desiderio di stare bene insieme.\nIl pubblico e gli artisti parlano la stessa lingua\, sullo stesso piano\, bevono vino e viaggiano su un’onda di ascolto sincero. \nSabato 28 ottobre 2023 vi aspettiamo da ALIBI con: \n• SCARDA in concerto\n“Classe ’86\, calabrese di lunga adozione\, nato a Napoli e stabile a Roma è un cantautore italiano.\nNel 2012 con il brano “Smetto Quando Voglio” è candidato ai David di Donatello con l’omonimo film.\n“I piedi sul Cruscotto”\, Dicembre 2014\, è il suo primo album che fa parlare di se\, coinvolge ascoltatori e concerti in giro. È con il secondo album però “Tormentone” (Ottobre 2018) che il pubblico si allarga\, con canzoni che diventano virali e un tour che affolla i live club italiani. Un album che mantiene viva l’anima cantautorale dando profondità alle cose leggere\, e leggerezza alle cose profonde. “Bomboniere” (Giugno 2021) attesta la stabilità del progetto\, che nell’anno successivo continua a girare i club e i festival della penisola. Al momento Scarda lavora al suo prossimo racconto discografico di cui suonerà anteprime per noi. \n• MIELE music guest\nManuela Paruzzo in arte Miele nasce a Caltanissetta nel’89 e si trasferisce a Milano per studiare musica. Partecipa nel 2012 al progetto “SIAE” per la creatività\, nel 2016 al Festival di Sanremo tra le nuove proposte con “Mentre Ti Parlo”\, tra i premiati a Musicultura nel 2020. Cosciente dei grandi maestri della canzone italiana ed internazionale è tra le voci più interessanti del panorama contemporaneo. \n• Nick Francisco\nselezione musicale in vinile \nla capienza è limitata\nprenotando ti assicuri l’esperienza che include :\nlive di Scarda\, music guest di Miele\, primo calice\, cena\, art gallery\, djset\nil costo della prenotazione su comehome è €5\nal botteghino €15 mostrando l’accredito su comehome \ntiming\n19:30 apertura\n21.00 MIELE\n21:30 cena\n21.55 Mr Mor3Love\n22.00 SCARDA\n23:30 dj set su vinile di Nick Francisco\nMilano\, ci vediamo Fuori Salotto da ALIBI !
URL:https://terraamara.it/evento/fuorisalotto-milano-scarda-miele-nick-sanfrancisco-vinyl-set/
LOCATION:Alibi Music & Spirits\, Via Aristotele\, 14\, Milano\, Italia
ATTACH;FMTTYPE=image/jpeg:https://terraamara.it/wp-content/uploads/2023/10/scarda-fuori-salotto-alibi.jpg
ORGANIZER;CN="Terra Amara":MAILTO:info@terraamara.it
END:VEVENT
BEGIN:VEVENT
DTSTART;TZID=Europe/Rome:20231026T213000
DTEND;TZID=Europe/Rome:20231026T230000
DTSTAMP:20260420T055815
CREATED:20231023T202846Z
LAST-MODIFIED:20231023T203003Z
UID:1022-1698355800-1698361200@terraamara.it
SUMMARY:Musica Radicale - NYCO live @ Radici - Bottega di Quartiere
DESCRIPTION:Musica Radicale torna a Radici – Bottega di Quartiere \nSiete pronti per un viaggio musicale straordinario? Il 26 ottobre Radici Bottega di Quartiere è lieta di presentarvi Nyco Ferrari\, l’ex poeta trasformato in un raver del futuro. \nNyco è un artista che ha attraversato strade e storie diverse\, immergendosi in un mondo di avventure e scoperte. Ha trascorso quattro anni tra Londra\, Parigi\, Dublino e Shanghai\, sperimentando la vita da cameriere\, da studente e da musicista. Ma è stata una breve ma intensa parentesi a New York a rivoluzionare la sua musica e il suo spirito. La sua musica è un viaggio sensoriale\, un incontro tra lo swing di New Orleans\, il soul di New York e il jazz manouche di Montmartre\, il tutto infuso in un ritmo accattivante con un basso 808 che vi farà vibrare l’anima e una cassa in quattro da club berlinese che vi farà ballare tutta la notte. \nIl suo nuovo album\, “Sono fatto così”\, è un racconto emozionante di tutto il suo percorso\, un diario sonoro che vi coinvolgerà fin dalla prima nota. \nUnitevi a noi il 26 ottobre a Radici Bottega di Quartiere.\n___________________________________\nPrenotazione consigliata.\nServizio al tavolo sospeso dalle 21.30
URL:https://terraamara.it/evento/musica-radicale-nyco-live-radici-bottega-di-quartiere/
LOCATION:Radici – Bottega di Quartiere\, Via Dolomiti\, 11\, Milano\, Milano\, Italia
ATTACH;FMTTYPE=image/jpeg:https://terraamara.it/wp-content/uploads/2023/10/nyco-radici-bottega-di-quartiere.jpg
ORGANIZER;CN="Terra Amara":MAILTO:info@terraamara.it
END:VEVENT
BEGIN:VEVENT
DTSTART;TZID=Europe/Rome:20231025T210000
DTEND;TZID=Europe/Rome:20231025T230000
DTSTAMP:20260420T055815
CREATED:20231023T200832Z
LAST-MODIFIED:20231023T201647Z
UID:1017-1698267600-1698274800@terraamara.it
SUMMARY:La Voce Folk di Bruce Springsteen
DESCRIPTION:La prima di quattro serate con Davide Brienza\, cantautore capace di emozionare e coinvolgere con la sua voce e la sua chitarra attraverso un racconto fatto di musica e parole\, in pratica di poesia.\nDavide Brienza ci accompagnerà in un percorso tra alcuni dei dischi folk di Springsteen\, vicinissimi alla tradizione popolare americana come Nebraska (1982)\, The Ghost of Tom Joad (1995)\, Devil &Dust (2005) oltre che We Shall Overcome – The Seeger Session (2006).\nCon questi lavori Springsteen si fa portatore contemporaneo di una tradizione comune a Woody Guthrie\, Pete Seeger\, Bob Dylan e agli altri artigiani della parola popolare del ‘900.\nDavide Brienza analizzerà la poetica e l’immaginario di quelli che per lui sono i lavori in studio fondamentali di Bruce Springsteen: traduzioni\, contesto storico\, immaginario poetico e performance dal vivo dei brani.\n🎫Gli incontri si snodano tra ottobre e novembre\, e successivamente nel mese di gennaio. L’ingresso è gratuito\, ma è consigliata la prenotazione.\nPer informazioni e prenotazioni:\ninfo@direfaredare.net – Tel. 3471266852
URL:https://terraamara.it/evento/la-voce-folk-di-bruce-springsteen/
LOCATION:Centro Culturale Sergio Valmaggi\, Via dei Partigiani\, 84\, Sesto San Giovanni\, Italia
ATTACH;FMTTYPE=image/jpeg:https://terraamara.it/wp-content/uploads/2023/10/La-voce-folk-di-Bruce-Springsteen.jpg
ORGANIZER;CN="Terra Amara":MAILTO:info@terraamara.it
END:VEVENT
BEGIN:VEVENT
DTSTART;TZID=Europe/Rome:20230607T190000
DTEND;TZID=Europe/Rome:20230610T200000
DTSTAMP:20260420T055815
CREATED:20231023T204947Z
LAST-MODIFIED:20231023T205213Z
UID:1035-1686164400-1686427200@terraamara.it
SUMMARY:FringeMi Festival 2023 | live music Mattia Faes\, Davide Brienza\, Ale Ponti\, Mattia Pirrotta
DESCRIPTION:Da stasera inizia la nostra collaborazione con il Fringe Mi Festival negli spazi di rigenerazione urbana di #OUT – Il Cortile Sociale al Mercato Crespi di Viale Monza. 💥\nSiamo molto felici di poter collaborare con il #Fringe e farlo in un luogo abbandonato fino a pochi mesi fa e messo ora a disposizione della comunità ci rende ancora più orgogliosi di essere in cartellone! ❤ \n📍 – dal 7 al 9 giugno\, ore 19.00\n🌶 mercoledì 7 – Mattia Faes | Cantautore Meneghino già amico dell’associazione e ospite di altri progetti Amari. Con una scrittura elegante e una voce intima si racconterà insieme a Manuel Nicastro al violino;\n🌶 giovedì 8 – Davide Brienza | “Musicante e operaio culturale” fondatore e direttore artistico di Terra Amara. Racconterà la nascita del progetto associativo intersecando il suo repertorio di folk urbano a canzoni della tradizione.\n🌶 venerdì 9 – Mattia Pirrotta | Cantautore Monzese con il cuore e le origini Calabresi. Già nel gruppo di coordinamento delle attività Amare a Milano e provincia. Il suo concerto alternerà brani di sua composizione a classici del panorama musicale italiano con un occhio di riguardo alla “Scuola Romana”.\n🌶 sabato 10 – #AlePonti | Se non fosse per il nome Italiano potrebbe tranquillamente essere scambiato per un bluesman del delta. Con le sue chitarre impestate dal Blues ci porterà in un percorso a ritroso fino alle origini del sound Delta.
URL:https://terraamara.it/evento/fringemi-festival-2023/
LOCATION:OUT. Il Cortile Sociale\, Viale Monza\, 54\, Milano\, Milano\, Italia
ATTACH;FMTTYPE=image/jpeg:https://terraamara.it/wp-content/uploads/2023/10/fringemi-festival-2023.jpg
ORGANIZER;CN="Terra Amara":MAILTO:info@terraamara.it
END:VEVENT
BEGIN:VEVENT
DTSTART;TZID=Europe/Rome:20221125T200000
DTEND;TZID=Europe/Rome:20221125T223000
DTSTAMP:20260420T055815
CREATED:20221115T164708Z
LAST-MODIFIED:20221115T165616Z
UID:998-1669406400-1669415400@terraamara.it
SUMMARY:"Il Primo Giorno" - Andrea Biagioni presenta il suo ep con Francesco Paracchini
DESCRIPTION:Terra Amara & My Shindig Events x Milano Music Week 2022\nPresentazione dell’ Ep del cantautore Lucchese Andrea Biagioni\, “Il Primo Giorno”\, insieme a Francesco Paracchini\, coordinatore del progetto editoriale musicale “L’Isola che non c’era”.\nBiagioni si confronterà con Paracchini sul processo artistico che ha portato alla produzione delle sue nuove tracce\, intime\, introspettive e dal sound folk che ha già contraddistinto il primo lavoro in studio di Biagioni\, “Pranzo di Famiglia”.\nA termine del talk il cantautore si esibirà dal vivo per un set acustico di presentazione dei suoni nuovi brani.\n🚩 ingresso libero con tessera HUG Milano (tesseramento FENALC 2022) –\nè consigliata la prenotazione. 🚩\n🔧 info spazio\, bistrot e prenotazioni:\nStefano – 389 848 5296 stefano@hugmilano.com\n🔨 info evento:\nDavide Brienza – 3318878611\ninfo@terraamara.it\nbenedetta@myshindig.events\ntesseramento HUG Milano 2022
URL:https://terraamara.it/evento/il-primo-giorno-andrea-biagioni-presenta-il-suo-ep-con-francesco-paracchini/
LOCATION:Hug Milano\, Via Giulio e Corrado Venini\, 83\, Milano\, 20125\, Italia
ATTACH;FMTTYPE=image/jpeg:https://terraamara.it/wp-content/uploads/2022/11/Il-primo-giorno-Terra-Amara.jpg
ORGANIZER;CN="Terra Amara":MAILTO:info@terraamara.it
END:VEVENT
BEGIN:VEVENT
DTSTART;TZID=Europe/Rome:20221123T200000
DTEND;TZID=Europe/Rome:20221123T223000
DTSTAMP:20260420T055815
CREATED:20221115T164301Z
LAST-MODIFIED:20221115T165606Z
UID:995-1669233600-1669242600@terraamara.it
SUMMARY:Non SOLO Una Signora - il gender gap nel music business
DESCRIPTION:Non SOLO una signora – il gender gap nel music business.\n🎤 il talk + showcase che tratta della parità di genere nel mondo musicale.\n🌶 Terra Amara in occasione della Milano Music Week 2022 e in collaborazione con MyShindig Events propone un confronto tra addetti ai lavori del settore musicale.\nTenendo conto di alcune ricerche basate sulle “classifiche italiane” e sui live set dell’estate 2022 si nota che la presenza di progetti musicali femminili è nettamente inferiore a quella maschile. 🔺\n❓ Esiste un movimento che lavora in direzione contraria a queste tendenze?\n🎶 guest:\nGiorginess – cantautrice ed attivista\nAssurditè – cantautrice\nAndrea Biviano – compositore e co-direttore artistico di Eolie Music Fest\nDenise D’Angelilli – content creator\n📢 modera gli interventi Le Nora\, artista eclettica da poco entrata nel collettivo di Terra Amara Milano.\n☀ a seguito del talk le ospiti musicali della serata si esibiranno in un intimo showcase.\n🚩 ingresso libero con tessera HUG Milano (tesseramento FENALC 2022) –\nè consigliata la prenotazione. 🚩\n🔧 info spazio\, bistrot e prenotazioni:\nStefano – 389 848 5296 stefano@hugmilano.com\n🔨 info evento:\nDavide Brienza – 3318878611\ninfo@terraamara.it
URL:https://terraamara.it/evento/non-solo-una-signora-il-gender-gap-nel-music-business/
LOCATION:Hug Milano\, Via Giulio e Corrado Venini\, 83\, Milano\, 20125\, Italia
ATTACH;FMTTYPE=image/jpeg:https://terraamara.it/wp-content/uploads/2022/11/Non-solo-una-signora-Terra-Amara.jpg
ORGANIZER;CN="Terra Amara":MAILTO:info@terraamara.it
END:VEVENT
BEGIN:VEVENT
DTSTART;TZID=Europe/Rome:20220817T190000
DTEND;TZID=Europe/Rome:20220819T023000
DTSTAMP:20260420T055815
CREATED:20221115T163639Z
LAST-MODIFIED:20221115T165612Z
UID:991-1660762800-1660876200@terraamara.it
SUMMARY:Suonate Da Galera 2022
DESCRIPTION:#SuonateDaGalera 2022 // evasioni emotive e altri tumulti.\nmercoledì 17 – giovedì 18 agosto\, Rionero in Vulture (PZ).\nIl format estivo dell’Associazione Terra Amara dedicato alla musica e arte emergente torna negli spazi dell’ “Ex Carcere Borbonico di Rionero in Vulture”.\nMercoledì 17 agosto:\nGianpiero Francese – “Fare Cultura in Terra di Sud” // talk + showcase\nLeanò – live music // acoustic set\nAftersat – Live Music\nVulture Temporary Tapes – Antonello Teora & Stefano Sabia // DJset\nGiovedì 18 agosto:\nEr Pinto – presentazione del libro “Mal di Mare” w. Mattia Yest Pisauro // talk\nFRIESTK – live music\nCecilia – live Music\nAntonello Teora – DJset\nApertura Area Evento ORE 19.00\njam session / Er Pinto Live Painting / Area food&beverage\nfree entry\nX info: info@terraamara.it
URL:https://terraamara.it/evento/suonate-da-galera-2022/
LOCATION:Ex Carcere Borbonico\, Largo Giuseppe Mazzini 17bis\, Rionero in Vulture\, Rionero in Vulture\, Italia
ATTACH;FMTTYPE=image/jpeg:https://terraamara.it/wp-content/uploads/2022/11/Suonate-da-galera-2022-Terra-Amara.jpg
ORGANIZER;CN="Terra Amara":MAILTO:info@terraamara.it
END:VEVENT
BEGIN:VEVENT
DTSTART;TZID=Europe/Rome:20220602T203000
DTEND;TZID=Europe/Rome:20220602T223000
DTSTAMP:20260420T055815
CREATED:20220608T201446Z
LAST-MODIFIED:20220609T085641Z
UID:831-1654201800-1654209000@terraamara.it
SUMMARY:Paoloantonio Live – Hug Milano
DESCRIPTION:Torna la musica dal vivo firmata Terra Amara negli spazi di Hug Milano.  \n\n\n\nPaolantonio: “un pop colto è indipendente da nazionale cantautori”; così la rivista Rumore recensisce il suo album d’esordio. Originario della provincia di Catania\, milanese d’adozione\, nel 2018 Paolantonio è finalista al Premio Bindi e\, nel 2019\, è uno dei vincitori di Musicultura. Nel 2021 pubblica l’album “Io non sono il mio tipo”\, con la collaborazione di Giuliano Dottori (Amor Fou) e Taketo Gohara (Capossela\, Brunori\, Motta). Nel 2022 apre il concerto degli Zen Circus sulla Darsena di Milano ed è special guest di Rockit e Open Stage a Casa Sanremo\, durante il Festival\, come una delle proposte più interessanti della nuova scena cantautorale italiana. Paolantonio unisce musica e impegno sociale e si definisce un “educantautore”: insegna Italiano a minori migranti; fa inclusione musicale con i bambini delle periferie milanesi; coordina il progetto “Cantautori a Scuola” di Fondazione Giorgio Gaber\, grazie al quale presenta ai centennial i grandi maestri del cantautorato italiano.Scrivi a Hug Milano o telefona il 389 8485296 per prenotazione tavolo.
URL:https://terraamara.it/evento/paoloantonio-live-hug-milano/
LOCATION:Hug Milano\, Via Giulio e Corrado Venini\, 83\, Milano\, 20125\, Italia
ATTACH;FMTTYPE=image/jpeg:https://terraamara.it/wp-content/uploads/2022/06/Evento-PaoloAntonio.jpg
END:VEVENT
BEGIN:VEVENT
DTSTART;TZID=Europe/Rome:20220519T203000
DTEND;TZID=Europe/Rome:20220519T223000
DTSTAMP:20260420T055815
CREATED:20220608T220927Z
LAST-MODIFIED:20220608T220927Z
UID:862-1652992200-1652999400@terraamara.it
SUMMARY:Leanò + Riccardo D’Avino – Hug Milano
DESCRIPTION:Torna la musica dal vivo firmata Terra Amara negli spazi di Hug Milano. Questa volta a incantarci con la loro musica saranno Riccardo D’Avino e la coloratissima Leanò\, due artisti giovani e molto talentuosi. 🎵 Riccardo D’Avino è torinese di nascita ma milanese d’adozione. Riccardo scrive e canta canzoni che come treni usa per andare lontano ed evadere dalla realtà. Attualmente è al lavoro su di un nuovo album. Il primo singolo\, “Torino Hotel”\, è uscito il 18 febbraio 2022. 🌸 Leanò colora città e campagna di suoni fatti di gioco e ricerca personale. Un po’ milanese\, un po’ cilentana\, la sua scrittura esplora sonorità indie-pop e urban\, unendo melodie di impronta tradizionale-popolare a una ricerca sonora più sperimentale. La sua musica si ispira al legame che ha con la natura e col corpo. Ciò che vive si traduce in un linguaggio semplice e onirico\, che riflette una lettura curiosa e attenta sia del mondo che la circonda sia del proprio mondo interiore.
URL:https://terraamara.it/evento/leano-riccardo-davino-hug-milano/
LOCATION:Hug Milano\, Via Giulio e Corrado Venini\, 83\, Milano\, 20125\, Italia
ATTACH;FMTTYPE=image/jpeg:https://terraamara.it/wp-content/uploads/2022/06/Evento-Leano-Riccardo-Davino.jpg
END:VEVENT
BEGIN:VEVENT
DTSTART;TZID=Europe/Rome:20220517T203000
DTEND;TZID=Europe/Rome:20220517T233000
DTSTAMP:20260420T055815
CREATED:20220609T085256Z
LAST-MODIFIED:20220609T085446Z
UID:873-1652819400-1652830200@terraamara.it
SUMMARY:Alinikus and Mr blue I love you
DESCRIPTION:Disco-Funk party from Ukraine \n Dance\, Drink\, Learn\, Donate\n“Before the war on Ukraine this year\, we had disco-funk parties in Kyiv. We mostly played on the vinyl. At our parties\, people felt free and dressed as they wanted\, they danced and communicated with each other without limitations. We discovered new music\, developed musical culture and spread love among the guests.”\nLabrutepoque got in touch with Alinikus and Dima\, aka Mr Blue I love you\, thanks to Nico\, aka Nick Sanfrancisco. Nico met them in Kyiv and played with them at their party just a week before the war started. At the time we were pretty sure we would have to host their gig in Milan but then things changed very quickly. Together with Alinikus and Dima we decided to host the concert anyway at Labrutepoque.\n The entire proceeds will be donated to Helpukraine.center\, which provides logistics of humanitarian cargoes from Europe to Ukraine.\nMore info > https://helpukraine.center\nEntrance 5€ + Tessera ACSI (5€)\nPretesserati online e paga in cassa: https://bit.ly/3tSsEbG \n In collaboration with MyShindig Events & Terra Amara\nMyShindig è una start up per condividere e gestire eventi creativi\, ricreativi e culturali \,che opera a Milano e Firenze. Ha come obiettivo la valorizzazione delle realtà creative diffuse sul territorio\, attraverso una piattaforma digitale ad hoc.\nTerra Amara è un’associazione culturale che si occupa principalmente di territorialità e aggregazione\, con sede a Rionero in Vulture (PZ)\, Milano e Mottola (TA). La necessità di creare un “ponte” tra la città e le aree interne del Paese\, che spesso forniscono braccia e menti proprio alle realtà urbane\, è alla base del percorso dell’associazione.
URL:https://terraamara.it/evento/alinikus-and-mr-blue-i-love-you/
LOCATION:Labrutepoque\, Via Privata Crescenzio\, 6\, Milano\, 20133\, Italia
ATTACH;FMTTYPE=image/jpeg:https://terraamara.it/wp-content/uploads/2022/06/Evento-Alinikus-Mrblue.jpg
END:VEVENT
BEGIN:VEVENT
DTSTART;TZID=Europe/Rome:20220505T203000
DTEND;TZID=Europe/Rome:20220505T220000
DTSTAMP:20260420T055815
CREATED:20220608T221141Z
LAST-MODIFIED:20220608T221141Z
UID:864-1651782600-1651788000@terraamara.it
SUMMARY:Valerio Zito + Valentina Brozzu Live | Hug Milano
DESCRIPTION:Torna la musica dal vivo firmata Terra Amara negli spazi di Hug Milano. A incantarci con le loro voci e le loro chitarre ci saranno il nostro compaesano Valerio Zito assieme alla cantautrice Valentina Brozzu. Valerio Zito è un paroliere e copywriter\, lucano di nascita e milanese d’adozione. Il suo progetto omonimo è attivo dal 2012\, anno da cui è partito per non fermarsi più. La sua musica è un pop/rock in continua evoluzione\, contaminata da sperimentazioni diverse che mai abbandonano la matrice folk e cantautoriale. Valentina Brozzu\, classe ‘99\, è una cantautrice milanese. Il suo progetto è attivo dal 2014\, anche se la sua formazione musicale è cominciata all’età di 5 anni. Il progetto unisce acustico ed elettronico con toni dolci e delicati\, che ci racconta senza veli la vita di una dolce e malinconica ragazza di 20 anni.
URL:https://terraamara.it/evento/valerio-zito-valentina-brozzu-live-hug-milano/
LOCATION:Hug Milano\, Via Giulio e Corrado Venini\, 83\, Milano\, 20125\, Italia
ATTACH;FMTTYPE=image/jpeg:https://terraamara.it/wp-content/uploads/2022/05/Evento-Zito-Brozzu.jpg
END:VEVENT
BEGIN:VEVENT
DTSTART;TZID=Europe/Rome:20220426T210000
DTEND;TZID=Europe/Rome:20220426T230000
DTSTAMP:20260420T055815
CREATED:20220609T090038Z
LAST-MODIFIED:20220609T090055Z
UID:877-1651006800-1651014000@terraamara.it
SUMMARY:Suonacele MILANO | Labrutepoque
DESCRIPTION:SUONACELE è il richiamo a rapporto dei cantautori del sottobosco!\nUn invito spassionato a condividere la propria musica! La necessità di creare una vetrina per la musica locale nascosta e\, magari\, una famiglia allargata di musicisti.\nDurante ogni serata\, 6 cantautori si alternano sul palco per condividere la propria musica davanti ad un pubblico attento ed appassionato\, in un’atmosfera rilassata e amichevole.\n Via Privata Crescenzio\, 6\, 20133 Milano MI\n La serata inizia alle 21.00\nINGRESSO CON GREEN PASS E MASCHERINA\nISTRUZIONI PER GLI ARTISTI\n Sei un cantautore? Prenota uno\nspazio per poterti esibire a Labrutepoque!\n Ognuno potrà esibirsi con 3 brani originali e far conoscere la propria musica ad un pubblico sempre nuovo.\n PUOI PRENOTARTI SCRIVENDOCI IN PRIVATO SU MESSENGER O SU INSTAGRAM OPPURE SCRIVENDO IL TUO NOME SULLA BACHECA ALL’INGRESSO DEL LOCALE (se ci sarà ancora posto) \n NO COVER \n Gli strumenti li mettiamo noi!\nA vostra disposizione ci saranno:\n un microfono\n una chitarra acustica\n una tastiera\nun cajon\n(Se hai bisogno di portare la tua strumentazione\, contattaci! Cercheremo una soluzione )\nLabrutepoque un’associazione culturale\, per accedere è necessario avere la tessera ACSI. Potete tesserarvi all’ingresso\, ma per aiutarci a fare entrare tutti più velocemente\, potete inserire i vostri dati qui: https://bit.ly/labrutepoque_tessera
URL:https://terraamara.it/evento/suonacele-milano-labrutepoque/
LOCATION:Labrutepoque\, Via Privata Crescenzio\, 6\, Milano\, 20133\, Italia
ATTACH;FMTTYPE=image/jpeg:https://terraamara.it/wp-content/uploads/2022/06/Suonacele-open-mic-26-aprile.jpg
END:VEVENT
END:VCALENDAR